Workbook

Sheet Please Note
A2: PLEASE NOTE:
A3: The comparisons made with previous years are only indicative.
A4: It is only an indication of how the crop is delivered at commercial premises between years.
A5: The comparison is based on the WEEK NUMBER and not actual dates.
A6: The beginning and end dates of a week are therefore not the same for each year.

Sheet Total Raisins
D3: TOTAL RAISINS: WEEKLY PRODUCER DELIVERIES
B4: Publication Date: 2026/08/31
D5: 2026 Marketing Year | H5: Comparison with Previous Marketing Year | K5: Comparison with 3 Year Average
D6: 1 January 2026 - 31 December 2026
B7: Week | C7: Week Ending | D7: Reported Deliveries | E7: Adjustments | F7: Week Total | G7: Cum. Total | H7: % Change from Previous Year | I7: Cum. Total 2025 | K7: Current Year % Change from 3 Year Average | L7: 3 Year Average Cum. Total 2023 - 2025
D8: KG
B9: 4 | C9: 19/01/2026 - 23/01/2026 | D9: 1795192.4 | E9: 0 | F9: =+D9+E9 -> 1795192.4 | G9: =+F9 -> 1795192.4 | H9: =((G9-I9)/I9)*100 -> 155.94299 | I9: 701403.25 | K9: =((G9-L9)/L9)*100 -> -36.091107 | L9: =+(701403.25+2705521.5+5020036.01)/3 -> 2808986.9
B10: 5 | C10: 26/01/2026 - 30/01/2026 | D10: 6433422.9 | E10: 0 | F10: =+E10+D10 -> 6433422.9 | G10: =+G9+F10 -> 8228615.4 | H10: =((G10-I10)/I10)*100 -> 42.070336 | I10: =701403.25+5090527.43 -> 5791930.7 | K10: =((G10-L10)/L10)*100 -> -8.3945617 | L10: =+(701403.25+2705521.5+5020036.01+5090527.43+6060755.3+7369770.25)/3 -> 8982671.2
B11: 6 | C11: 02/02/2026 - 06/02/2026 | D11: 9568155.4 | E11: 0 | F11: =+E11+D11 -> 9568155.4 | G11: =+G10+F11 -> 17796771 | H11: =((G11-I11)/I11)*100 -> 71.121 | I11: =+I10+4608178.46 -> 10400109 | K11: =((G11-L11)/L11)*100 -> 21.915602 | L11: 14597615
B12: 7 | C12: 09/02/2026 - 13/02/2026 | D12: 4340829.4 | E12: =+[1]Thompsons!E12+[1]Flame!E12+'[1]SA Sultana'!E12+'[1]OR Sultana'!E12+[1]Goldens!E12+[1]Currants!E12+[1]Other!E12 -> 4861144 | F12: =+E12+D12 -> 9201973.4 | G12: =+G11+F12 -> 26998744 | H12: =((G12-I12)/I12)*100 -> 52.153391 | I12: =+I11+7344315.78 -> 17744425 | K12: =((G12-L12)/L12)*100 -> 21.738672 | L12: =66532870.15/3 -> 22177623
B13: 8 | C13: 16/02/2026 - 20/02/2026 | D13: 8409847.1 | E13: 0 | F13: =+E13+D13 -> 8409847.1 | G13: =+G12+F13 -> 35408591 | H13: =((G13-I13)/I13)*100 -> 32.93858 | I13: 26635301 | K13: =((G13-L13)/L13)*100 -> 14.048079 | L13: =93141221.68/3 -> 31047074
B14: 9 | C14: 23/02/2026 - 27/02/2026 | D14: 6650673.9 | E14: 0 | F14: =+E14+D14 -> 6650673.9 | G14: =+G13+F14 -> 42059265 | H14: =((G14-I14)/I14)*100 -> 18.765085 | I14: 35413830 | K14: =((G14-L14)/L14)*100 -> 2.8597308 | L14: =122669770.39/3 -> 40889923
B15: 10 | C15: 02/03/2026 - 06/03/2026 | D15: 13010336 | E15: =106192+2190 -> 108382 | F15: =+E15+D15 -> 13118718 | G15: =+G14+F15 -> 55177983 | H15: =((G15-I15)/I15)*100 -> 14.307637 | I15: 48271476 | K15: =((G15-L15)/L15)*100 -> 6.6936349 | L15: 51716284
B16: 11 | C16: 09/03/2026 - 13/03/2026 | D16: 11665782 | E16: 0 | F16: =+E16+D16 -> 11665782 | G16: =+G15+F16 -> 66843765 | H16: =((G16-I16)/I16)*100 -> 16.045293 | I16: =+I15+9329969.26 -> 57601445 | K16: =((G16-L16)/L16)*100 -> 11.429312 | L16: 59987596
B17: 12 | C17: 16/03/2026 - 20/03/2026 | D17: 11486068 | E17: 0 | F17: =+E17+D17 -> 11486068 | G17: =+G16+F17 -> 78329834 | H17: =((G17-I17)/I17)*100 -> 17.286873 | I17: 66784825 | K17: =((G17-L17)/L17)*100 -> 18.001566 | L17: 66380334
B18: 13 | C18: 23/03/2026 - 27/03/2026 | D18: 6744613.4 | E18: 0 | F18: =+E18+D18 -> 6744613.4 | G18: =+G17+F18 -> 85074447 | H18: =((G18-I18)/I18)*100 -> 16.532007 | I18: 73005219 | K18: =((G18-L18)/L18)*100 -> 20.129532 | L18: 70818928
B19: 14 | C19: 30/03/2026 - 03/04/2026 | D19: 1858001.6 | E19: 274690.5 | F19: =+E19+D19 -> 2132692.1 | G19: =+G18+F19 -> 87207139 | H19: =((G19-I19)/I19)*100 -> 9.1412466 | I19: =+I18+6897788.76 -> 79903008 | K19: =((G19-L19)/L19)*100 -> 17.561415 | L19: 74180070
B20: 15 | C20: 06/04/2026 - 10/04/2026 | D20: 2564260.6 | E20: 0 | F20: =+E20+D20 -> 2564260.6 | G20: =+G19+F20 -> 89771400 | H20: =((G20-I20)/I20)*100 -> 6.8042532 | I20: =+I19+4149262.3 -> 84052270 | K20: =((G20-L20)/L20)*100 -> 16.871807 | L20: 76811852
B21: 16 | C21: 13/04/2026 - 17/04/2026 | D21: 3255071.4 | E21: 35132 | F21: =+E21+D21 -> 3290203.4 | G21: =+G20+F21 -> 93061603 | H21: =((G21-I21)/I21)*100 -> 5.2293271 | I21: =+I20+4384675.55 -> 88436946 | K21: =((G21-L21)/L21)*100 -> 17.787382 | L21: 79008126
B22: 17 | C22: 20/04/2026 - 24/04/2026 | D22: 1223172.6 | E22: 254307 | F22: =+E22+D22 -> 1477479.6 | G22: =+G21+F22 -> 94539083 | H22: =((G22-I22)/I22)*100 -> 3.4871119 | I22: =+I21+2916538.56 -> 91353485 | K22: =((G22-L22)/L22)*100 -> 17.306964 | L22: 80591194
B23: 18 | C23: 27/04/2026 - 01/05/2026 | D23: 730080.04 | E23: 0 | F23: =+E23+D23 -> 730080.04 | G23: =+G22+F23 -> 95269163 | H23: =((G23-I23)/I23)*100 -> -0.2793363 | I23: =+I22+4182545.07 -> 95536030 | K23: =((G23-L23)/L23)*100 -> 15.936155 | L23: 82173816
B24: 19 | C24: 04/05/2026 - 08/05/2026 | D24: 1182002 | E24: 0 | F24: =+E24+D24 -> 1182002 | G24: =+G23+F24 -> 96451165 | H24: =((G24-I24)/I24)*100 -> -0.99182269 | I24: =+I23+1881342.79 -> 97417372 | K24: =((G24-L24)/L24)*100 -> 16.263402 | L24: 82959180
B25: 20 | C25: 11/05/2026 - 15/05/2026 | D25: 188523.5 | E25: 0 | F25: =+E25+D25 -> 188523.5 | G25: =+G24+F25 -> 96639688 | H25: =((G25-I25)/I25)*100 -> -2.399974 | I25: =+I24+1598675.33 -> 99016048 | K25: =((G25-L25)/L25)*100 -> 15.163986 | L25: 83914852
B26: 21 | C26: 18/05/2026 - 22/05/2026 | D26: 472538.25 | E26: 0 | F26: =+E26+D26 -> 472538.25 | G26: =+G25+F26 -> 97112227 | H26: =((G26-I26)/I26)*100 -> -2.9332592 | I26: =+I25+1030812.54 -> 1.0004686e+08 | K26: =((G26-L26)/L26)*100 -> 14.845971 | L26: 84558671
B27: 22 | C27: 25/05/2026 - 29/05/2026 | D27: 879297.51 | E27: 0 | F27: =+E27+D27 -> 879297.51 | G27: =+G26+F27 -> 97991524 | H27: =((G27-I27)/I27)*100 -> -2.4299722 | I27: =+I26+385133.28 -> 1.0043199e+08 | K27: =((G27-L27)/L27)*100 -> 15.585166 | L27: 84778633
B28: 23 | C28: 01/06/2026 - 05/06/2026 | D28: 918751.99 | E28: =+Thompsons!E28 -> -64311 | F28: =+E28+D28 -> 854440.99 | G28: =+G27+F28 -> 98845965 | H28: =((G28-I28)/I28)*100 -> -1.6890838 | I28: =+I27+112248.03 -> 1.0054424e+08 | K28: =((G28-L28)/L28)*100 -> 16.53055 | L28: 84824078
B29: 24 | C29: 08/06/2026 - 12/06/2026 | D29: 260755.3 | E29: 0 | F29: =+E29+D29 -> 260755.3 | G29: =+G28+F29 -> 99106720 | H29: =((G29-I29)/I29)*100 -> -1.7551181 | I29: =+I28+332993.36 -> 1.0087723e+08 | K29: =((G29-L29)/L29)*100 -> 15.440138 | L29: 85851179
B30: 25 | C30: 15/06/2026 - 19/06/2026 | D30: 374038.2 | E30: 0 | F30: =+E30+D30 -> 374038.2 | G30: =+G29+F30 -> 99480759 | H30: =((G30-I30)/I30)*100 -> -1.3843325 | I30: =+I29+0 -> 1.0087723e+08 | K30: =((G30-L30)/L30)*100 -> 15.87582 | L30: =+L29+0 -> 85851179
B31: 26 | C31: 22/06/2026 - 26/06/2026 | D31: 68990.8 | E31: 37775 | F31: =+E31+D31 -> 106765.8 | G31: =+G30+F31 -> 99587524 | H31: =((G31-I31)/I31)*100 -> -1.2784952 | I31: =+I30+0 -> 1.0087723e+08 | K31: =((G31-L31)/L31)*100 -> 16.000182 | L31: =+L30+0 -> 85851179
B32: 27 | C32: 29/06/2026 - 03/07/2026 | D32: 67033.5 | E32: 0 | F32: =+E32+D32 -> 67033.5 | G32: =+G31+F32 -> 99654558 | H32: =((G32-I32)/I32)*100 -> -1.2120446 | I32: =+I31+0 -> 1.0087723e+08 | K32: =((G32-L32)/L32)*100 -> 16.078263 | L32: =+L31+0 -> 85851179
B33: 28 | C33: 06/07/2026 - 10/07/2026 | D33: 104027 | E33: 896958 | F33: =+E33+D33 -> 1000985 | G33: =+G32+F33 -> 1.0065554e+08 | H33: =((G33-I33)/I33)*100 -> -0.21976424 | I33: =+I32+0 -> 1.0087723e+08 | K33: =((G33-L33)/L33)*100 -> 17.244217 | L33: =+L32+0 -> 85851179
B34: 29 | C34: 13/07/2026 - 17/07/2026 | D34: 11761 | E34: 0 | F34: =+E34+D34 -> 11761 | G34: =+G33+F34 -> 1.006673e+08 | H34: =((G34-I34)/I34)*100 -> -0.20810552 | I34: =+I33+0 -> 1.0087723e+08 | K34: =((G34-L34)/L34)*100 -> 17.257916 | L34: =+L33+0 -> 85851179
B35: 30 | C35: 20/07/2026 - 24/07/2026 | D35: 162501 | E35: 0 | F35: =+E35+D35 -> 162501 | G35: =+G34+F35 -> 1.008298e+08 | H35: =((G35-I35)/I35)*100 -> -0.047017635 | I35: =+I34+0 -> 1.0087723e+08 | K35: =((G35-L35)/L35)*100 -> 17.447198 | L35: =+L34+0 -> 85851179
B36: 31 | C36: 27/07/2026 - 31/07/2026 | D36: 53364 | E36: 0 | F36: =+E36+D36 -> 53364 | G36: =+G35+F36 -> 1.0088317e+08 | H36: =((G36-I36)/I36)*100 -> 0.0058823083 | I36: =+I35+0 -> 1.0087723e+08 | K36: =((G36-L36)/L36)*100 -> 17.509357 | L36: =+L35+0 -> 85851179
B37: 32 | C37: 03/08/2026 - 07/08/2026 | D37: 20850 | E37: 0 | F37: =+E37+D37 -> 20850 | G37: =+G36+F37 -> 1.0090402e+08 | H37: =((G37-I37)/I37)*100 -> 0.026550995 | I37: =+I36+0 -> 1.0087723e+08 | K37: =((G37-L37)/L37)*100 -> 17.533643 | L37: =+L36+0 -> 85851179
B38: 33 | C38: 10/08/2026 - 14/08/2026 | D38: =+F38-E38 -> 54907 | E38: =0.5+3862+415.5+32871-7299+6268+33510-14392+2414-21110 -> 36540 | F38: 91447 | G38: =+G37+F38 -> 1.0099547e+08 | H38: =((G38-I38)/I38)*100 -> 0.11720277 | I38: =+I37+0 -> 1.0087723e+08 | K38: =((G38-L38)/L38)*100 -> 17.640161 | L38: =+L37+0 -> 85851179
B39: 34 | C39: 17/08/2026 - 21/08/2026 | D39: 0 | E39: 0 | F39: 0 | G39: =+G38+F39 -> 1.0099547e+08 | H39: =((G39-I39)/I39)*100 -> 0.11720277 | I39: =+I38+0 -> 1.0087723e+08 | K39: =((G39-L39)/L39)*100 -> 17.640161 | L39: =+L38+0 -> 85851179
B40: 35 | C40: 24/08/2026 - 28/08/2026 | D40: 91647.5 | E40: -41 | F40: =+E40+D40 -> 91606.5 | G40: =+G39+F40 -> 1.0108707e+08 | H40: =((G40-I40)/I40)*100 -> 0.20801265 | I40: =+I39+0 -> 1.0087723e+08 | K40: =((G40-L40)/L40)*100 -> 17.746865 | L40: =+L39+0 -> 85851179
B41: 36
B42: 37
...

Sheet Thompsons
D3: TOTAL THOMPSONS: WEEKLY PRODUCER DELIVERIES
B4: Publication Date: 2026/08/31
D5: 2026 Marketing Year | H5: Comparison with Previous Marketing Year
D6: 1 January 2026 - 31 December 2026
B7: Week | C7: Week Ending | D7: Reported Deliveries | E7: Adjustments | F7: Week Total | G7: Cum. Total | H7: % Change from Previous Year | I7: Cum. Total 2025
D8: KG
B9: 4 | C9: 19/01/2026 - 23/01/2026 | D9: 696917.44 | E9: 0 | F9: =+D9+E9 -> 696917.44 | G9: =+F9 -> 696917.44 | H9: =((G9-I9)/I9)*100 -> 404.17235 | I9: 138230
B10: 5 | C10: 26/01/2026 - 30/01/2026 | D10: 4382751.4 | E10: 0 | F10: =+E10+D10 -> 4382751.4 | G10: =+G9+F10 -> 5079668.9 | H10: =((G10-I10)/I10)*100 -> 129.3998 | I10: =+I9+2076100.09 -> 2214330.1
B11: 6 | C11: 02/02/2026 - 06/02/2026 | D11: =6155544.29-79989 -> 6075555.3 | E11: =+E62 -> 79989 | F11: =+E11+D11 -> 6155544.3 | G11: =+G10+F11 -> 11235213 | H11: =((G11-I11)/I11)*100 -> 164.3778 | I11: =+I10+2035350.96 -> 4249681
B12: 7 | C12: 09/02/2026 - 13/02/2026 | D12: 2466772.6 | E12: 3178848 | F12: =+E12+D12 -> 5645620.7 | G12: =+G11+F12 -> 16880834 | H12: =((G12-I12)/I12)*100 -> 105.19431 | I12: =+I11+3977074.39 -> 8226755.4
B13: 8 | C13: 16/02/2026 - 20/02/2026 | D13: 5219153.8 | E13: 0 | F13: =+E13+D13 -> 5219153.8 | G13: =+G12+F13 -> 22099988 | H13: =((G13-I13)/I13)*100 -> 61.518351 | I13: 13682648
B14: 9 | C14: 23/02/2026 - 27/02/2026 | D14: 4452434.2 | E14: 0 | F14: =+E14+D14 -> 4452434.2 | G14: =+G13+F14 -> 26552422 | H14: =((G14-I14)/I14)*100 -> 41.191446 | I14: 18805970
B15: 10 | C15: 02/03/2026 - 06/03/2026 | D15: 8612538.6 | E15: 34326.5 | F15: =+E15+D15 -> 8646865.1 | G15: =+G14+F15 -> 35199287 | H15: =((G15-I15)/I15)*100 -> 35.763763 | I15: =+I14+7120893.9 -> 25926864
B16: 11 | C16: 09/03/2026 - 13/03/2026 | D16: 7184835.6 | E16: 0 | F16: =+E16+D16 -> 7184835.6 | G16: =+G15+F16 -> 42384122 | H16: =((G16-I16)/I16)*100 -> 33.587537 | I16: =+I15+5800737.94 -> 31727602
B17: 12 | C17: 16/03/2026 - 20/03/2026 | D17: 6922769.5 | E17: 0 | F17: =+E17+D17 -> 6922769.5 | G17: =+G16+F17 -> 49306892 | H17: =((G17-I17)/I17)*100 -> 29.470504 | I17: =+I16+6355892.08 -> 38083494
B18: 13 | C18: 23/03/2026 - 27/03/2026 | D18: 4166259.2 | E18: 0 | F18: =+E18+D18 -> 4166259.2 | G18: =+G17+F18 -> 53473151 | H18: =((G18-I18)/I18)*100 -> 26.760574 | I18: 42184371
B19: 14 | C19: 30/03/2026 - 03/04/2026 | D19: 1249646 | E19: 179717.5 | F19: =+E19+D19 -> 1429363.5 | G19: =+G18+F19 -> 54902515 | H19: =((G19-I19)/I19)*100 -> 17.556566 | I19: =+I18+4518689.46 -> 46703061
B20: 15 | C20: 06/04/2026 - 10/04/2026 | D20: 1419304.1 | E20: 0 | F20: =+E20+D20 -> 1419304.1 | G20: =+G19+F20 -> 56321819 | H20: =((G20-I20)/I20)*100 -> 14.135612 | I20: =+I19+2643341.77 -> 49346403
B21: 16 | C21: 13/04/2026 - 17/04/2026 | D21: 1755700.8 | E21: 0 | F21: =+E21+D21 -> 1755700.8 | G21: =+G20+F21 -> 58077520 | H21: =((G21-I21)/I21)*100 -> 11.403227 | I21: 52132708
B22: 17 | C22: 20/04/2026 - 24/04/2026 | D22: 585975.03 | E22: 135843 | F22: =+E22+D22 -> 721818.03 | G22: =+G21+F22 -> 58799338 | H22: =((G22-I22)/I22)*100 -> 9.4060435 | I22: =+I21+1611432.02 -> 53744140
B23: 18 | C23: 27/04/2026 - 01/05/2026 | D23: 275116.52 | E23: 0 | F23: =+E23+D23 -> 275116.52 | G23: =+G22+F23 -> 59074454 | H23: =((G23-I23)/I23)*100 -> 4.9189177 | I23: =+I22+2560723.8 -> 56304864
B24: 19 | C24: 04/05/2026 - 08/05/2026 | D24: 765323 | E24: 0 | F24: =+E24+D24 -> 765323 | G24: =+G23+F24 -> 59839777 | H24: =((G24-I24)/I24)*100 -> 4.1709101 | I24: =+I23+1138981.78 -> 57443846
B25: 20 | C25: 11/05/2026 - 15/05/2026 | D25: 64204.5 | E25: -19420 | F25: =+E25+D25 -> 44784.5 | G25: =+G24+F25 -> 59884562 | H25: =((G25-I25)/I25)*100 -> 3.2555869 | I25: =+I24+552591.27 -> 57996437
B26: 21 | C26: 18/05/2026 - 22/05/2026 | D26: 82694.25 | E26: 0 | F26: =+E26+D26 -> 82694.25 | G26: =+G25+F26 -> 59967256 | H26: =((G26-I26)/I26)*100 -> 2.3013358 | I26: =+I25+621815.78 -> 58618253
B27: 22 | C27: 25/05/2026 - 29/05/2026 | D27: 231298.01 | E27: 0 | F27: =+E27+D27 -> 231298.01 | G27: =+G26+F27 -> 60198554 | H27: =((G27-I27)/I27)*100 -> 2.5266837 | I27: =+I26+96758.25 -> 58715011
B28: 23 | C28: 01/06/2026 - 05/06/2026 | D28: 223312.49 | E28: =+' Specific add product detail'!E31 -> -64311 | F28: =+E28+D28 -> 159001.49 | G28: =+G27+F28 -> 60357555 | H28: =((G28-I28)/I28)*100 -> 2.7613352 | I28: =+I27+20655.5 -> 58735667
B29: 24 | C29: 08/06/2026 - 12/06/2026 | D29: 37973 | E29: 0 | F29: =+E29+D29 -> 37973 | G29: =+G28+F29 -> 60395528 | H29: =((G29-I29)/I29)*100 -> 2.8300538 | I29: =+I28-2323.58 -> 58733343
B30: 25 | C30: 15/06/2026 - 19/06/2026 | D30: 74172 | E30: 0 | F30: =+E30+D30 -> 74172 | G30: =+G29+F30 -> 60469700 | H30: =((G30-I30)/I30)*100 -> 2.9604131 | I30: =+I29-2323.58 -> 58731020
B31: 26 | C31: 22/06/2026 - 26/06/2026 | D31: 52969.9 | E31: 37775 | F31: =+E31+D31 -> 90744.9 | G31: =+G30+F31 -> 60560445 | H31: =((G31-I31)/I31)*100 -> 3.1190021 | I31: =+I30-2323.58 -> 58728696
B32: 27 | C32: 29/06/2026 - 03/07/2026 | D32: 32188.5 | E32: 0 | F32: =+E32+D32 -> 32188.5 | G32: =+G31+F32 -> 60592634 | H32: =((G32-I32)/I32)*100 -> 3.1778931 | I32: =+I31-2323.58 -> 58726372
B33: 28 | C33: 06/07/2026 - 10/07/2026 | D33: 34830 | E33: 769468 | F33: =+E33+D33 -> 804298 | G33: =+G32+F33 -> 61396932 | H33: =((G33-I33)/I33)*100 -> 4.5515985 | I33: =+I32-2323.58 -> 58724049
B34: 29 | C34: 13/07/2026 - 17/07/2026 | D34: 11761 | E34: 0 | F34: =+E34+D34 -> 11761 | G34: =+G33+F34 -> 61408693 | H34: =((G34-I34)/I34)*100 -> 4.5757639 | I34: =+I33-2323.58 -> 58721725
B35: 30 | C35: 20/07/2026 - 24/07/2026 | D35: 878 | E35: 0 | F35: =+E35+D35 -> 878 | G35: =+G34+F35 -> 61409571 | H35: =((G35-I35)/I35)*100 -> 4.5813973 | I35: =+I34-2323.58 -> 58719402
B36: 31 | C36: 27/07/2026 - 31/07/2026 | D36: 3129 | E36: 0 | F36: =+E36+D36 -> 3129 | G36: =+G35+F36 -> 61412700 | H36: =((G36-I36)/I36)*100 -> 4.5908648 | I36: =+I35-2323.58 -> 58717078
B37: 32 | C37: 03/08/2026 - 07/08/2026 | D37: 16530 | E37: 0 | F37: =+E37+D37 -> 16530 | G37: =+G36+F37 -> 61429230 | H37: =((G37-I37)/I37)*100 -> 4.6231569 | I37: =+I36-2323.58 -> 58714755
B38: 33 | C38: 10/08/2026 - 14/08/2026 | D38: 2426.5 | E38: =32871+33510-14392+2414 -> 54403 | F38: 56829.5 | G38: =+G37+F38 -> 61486059 | H38: =((G38-I38)/I38)*100 -> 4.7240904 | I38: =+I37-2323.58 -> 58712431
B39: 34 | C39: 17/08/2026 - 21/08/2026 | D39: 0 | E39: 0 | F39: 0 | G39: =+G38+F39 -> 61486059 | H39: =((G39-I39)/I39)*100 -> 4.7240904 | I39: =+I38+0 -> 58712431
B40: 35 | C40: 24/08/2026 - 28/08/2026 | D40: 968 | E40: 0 | F40: =+E40+D40 -> 968 | G40: =+G39+F40 -> 61487027 | H40: =((G40-I40)/I40)*100 -> 4.7257391 | I40: =+I39+0 -> 58712431
B41: 36
B42: 37
...

Sheet Flame
D3: TOTAL FLAME: WEEKLY PRODUCER DELIVERIES
B4: Publication Date: 2026/08/31
D5: 2026 Marketing Year | H5: Comparison with Previous Marketing Year
D6: 1 January 2026 - 31 December 2026
B7: Week | C7: Week Ending | D7: Reported Deliveries | E7: Adjustments | F7: Week Total | G7: Cum. Total | H7: % Change from Previous Year | I7: Cum. Total 2025
D8: KG
B9: 4 | C9: 19/01/2026 - 23/01/2026 | D9: 132961.5 | E9: 0 | F9: =+D9+E9 -> 132961.5 | G9: =+F9 -> 132961.5 | H9: =((G9-I9)/I9)*100 -> 517.99442 | I9: 21515
B10: 5 | C10: 26/01/2026 - 30/01/2026 | D10: 412465.22 | E10: 0 | F10: =+E10+D10 -> 412465.22 | G10: =+G9+F10 -> 545426.72 | H10: =((G10-I10)/I10)*100 -> 21.041029 | I10: =+I9+429098.09 -> 450613.09
B11: 6 | C11: 02/02/2026 - 06/02/2026 | D11: 838322.14 | E11: 0 | F11: =+E11+D11 -> 838322.14 | G11: =+G10+F11 -> 1383748.9 | H11: =((G11-I11)/I11)*100 -> 73.250922 | I11: =+I10+348083.3 -> 798696.39
B12: 7 | C12: 09/02/2026 - 13/02/2026 | D12: 322426.14 | E12: 352980 | F12: =+E12+D12 -> 675406.14 | G12: =+G11+F12 -> 2059155 | H12: =((G12-I12)/I12)*100 -> 39.718353 | I12: =+I11+675093.53 -> 1473789.9
B13: 8 | C13: 16/02/2026 - 20/02/2026 | D13: 773175.73 | E13: 0 | F13: =+E13+D13 -> 773175.73 | G13: =+G12+F13 -> 2832330.7 | H13: =((G13-I13)/I13)*100 -> 46.437596 | I13: 1934155.4
B14: 9 | C14: 23/02/2026 - 27/02/2026 | D14: 729160.26 | E14: 0 | F14: =+E14+D14 -> 729160.26 | G14: =+G13+F14 -> 3561491 | H14: =((G14-I14)/I14)*100 -> 36.887882 | I14: =+I13+667602.25 -> 2601757.7
B15: 10 | C15: 02/03/2026 - 06/03/2026 | D15: 1093443.6 | E15: 69047 | F15: =+E15+D15 -> 1162490.6 | G15: =+G14+F15 -> 4723981.6 | H15: =((G15-I15)/I15)*100 -> 34.62625 | I15: =+I14+907202.55 -> 3508960.2
B16: 11 | C16: 09/03/2026 - 13/03/2026 | D16: 1093426.7 | E16: 0 | F16: 1039426.7 | G16: =+G15+F16 -> 5763408.3 | H16: =((G16-I16)/I16)*100 -> 34.941835 | I16: =+I15+762071.27 -> 4271031.5
B17: 12 | C17: 16/03/2026 - 20/03/2026 | D17: 1025660.7 | E17: 0 | F17: =+E17+D17 -> 1025660.7 | G17: =+G16+F17 -> 6789069 | H17: =((G17-I17)/I17)*100 -> 41.568958 | I17: =+I16+524560.02 -> 4795591.5
B18: 13 | C18: 23/03/2026 - 27/03/2026 | D18: 477617.16 | E18: 0 | F18: =+E18+D18 -> 477617.16 | G18: =+G17+F18 -> 7266686.1 | H18: =((G18-I18)/I18)*100 -> 40.553192 | I18: 5170061.3
B19: 14 | C19: 30/03/2026 - 03/04/2026 | D19: 147509.1 | E19: 25367.5 | F19: =+E19+D19 -> 172876.6 | G19: =+G18+F19 -> 7439562.7 | H19: =((G19-I19)/I19)*100 -> 38.736862 | I19: =+I18+192293.5 -> 5362354.8
B20: 15 | C20: 06/04/2026 - 10/04/2026 | D20: 325418.5 | E20: 0 | F20: =+E20+D20 -> 325418.5 | G20: =+G19+F20 -> 7764981.2 | H20: =((G20-I20)/I20)*100 -> 38.702057 | I20: =+I19+235962.51 -> 5598317.3
B21: 16 | C21: 13/04/2026 - 17/04/2026 | D21: 348307.07 | E21: 0 | F21: =+E21+D21 -> 348307.07 | G21: =+G20+F21 -> 8113288.3 | H21: =((G21-I21)/I21)*100 -> 38.207213 | I21: 5870379.8
B22: 17 | C22: 20/04/2026 - 24/04/2026 | D22: 171055.08 | E22: 0 | F22: =+E22+D22 -> 171055.08 | G22: =+G21+F22 -> 8284343.4 | H22: =((G22-I22)/I22)*100 -> 34.446026 | I22: =+I21+291456.03 -> 6161835.8
B23: 18 | C23: 27/04/2026 - 01/05/2026 | D23: 76257.02 | E23: 0 | F23: =+E23+D23 -> 76257.02 | G23: =+G22+F23 -> 8360600.4 | H23: =((G23-I23)/I23)*100 -> 31.058739 | I23: =+I22+217441.51 -> 6379277.3
B24: 19 | C24: 04/05/2026 - 08/05/2026 | D24: 21513 | E24: 0 | F24: =+E24+D24 -> 21513 | G24: =+G23+F24 -> 8382113.4 | H24: =((G24-I24)/I24)*100 -> 30.143706 | I24: =+I23+61382.51 -> 6440659.8
B25: 20 | C25: 11/05/2026 - 15/05/2026 | D25: 11193 | E25: 0 | F25: =+E25+D25 -> 11193 | G25: =+G24+F25 -> 8393306.4 | H25: =((G25-I25)/I25)*100 -> 29.668662 | I25: =+I24+32227.5 -> 6472887.3
B26: 21 | C26: 18/05/2026 - 15/05/2026 | D26: 7300.5 | E26: 0 | F26: =+E26+D26 -> 7300.5 | G26: =+G25+F26 -> 8400606.9 | H26: =((G26-I26)/I26)*100 -> 29.756881 | I26: =+I25+1225.5 -> 6474112.8
B27: 22 | C27: 25/05/2026 - 29/05/2026 | D27: 64702.5 | E27: 0 | F27: =+E27+D27 -> 64702.5 | G27: =+G26+F27 -> 8465309.4 | H27: =((G27-I27)/I27)*100 -> 30.756284 | I27: =+I26+0 -> 6474112.8
B28: 23 | C28: 01/06/2026 - 05/06/2026 | D28: 12255.5 | E28: 0 | F28: =+E28+D28 -> 12255.5 | G28: =+G27+F28 -> 8477564.9 | H28: =((G28-I28)/I28)*100 -> 30.945584 | I28: =+I27+0 -> 6474112.8
B29: 24 | C29: 08/06/2026 - 12/06/2026 | D29: 860 | E29: 0 | F29: =+E29+D29 -> 860 | G29: =+G28+F29 -> 8478424.9 | H29: =((G29-I29)/I29)*100 -> 30.792552 | I29: =+I28+8232.49 -> 6482345.3
B30: 25 | C30: 16/06/2026 - 19/06/2026 | D30: 0 | E30: 0 | F30: =+E30+D30 -> 0 | G30: =+G29+F30 -> 8478424.9 | H30: =((G30-I30)/I30)*100 -> 30.792552 | I30: =+I29+0 -> 6482345.3
B31: 26 | C31: 22/06/2026 - 26/06/2026 | D31: 200.5 | E31: 0 | F31: =+E31+D31 -> 200.5 | G31: =+G30+F31 -> 8478625.4 | H31: =((G31-I31)/I31)*100 -> 30.795645 | I31: =+I30+0 -> 6482345.3
B32: 27 | C32: 29/06/2026 - 03/07/2026 | D32: 0 | E32: 0 | F32: =+E32+D32 -> 0 | G32: =+G31+F32 -> 8478625.4 | H32: =((G32-I32)/I32)*100 -> 30.795645 | I32: =+I31+0 -> 6482345.3
B33: 28 | C33: 06/07/2026 - 10/07/2026 | D33: 0 | E33: 4389 | F33: =+E33+D33 -> 4389 | G33: =+G32+F33 -> 8483014.4 | H33: =((G33-I33)/I33)*100 -> 30.863352 | I33: =+I32+0 -> 6482345.3
B34: 29 | C34: 13/07/2026 - 17/07/2026 | D34: 0 | E34: 0 | F34: =+E34+D34 -> 0 | G34: =+G33+F34 -> 8483014.4 | H34: =((G34-I34)/I34)*100 -> 30.863352 | I34: =+I33+0 -> 6482345.3
B35: 30 | C35: 20/07/2026 - 24/07/2026 | D35: 0 | E35: 0 | F35: =+E35+D35 -> 0 | G35: =+G34+F35 -> 8483014.4 | H35: =((G35-I35)/I35)*100 -> 30.863352 | I35: =+I34+0 -> 6482345.3
B36: 31 | C36: 27/07/2026 - 31/07/2026 | D36: 0 | E36: 0 | F36: =+E36+D36 -> 0 | G36: =+G35+F36 -> 8483014.4 | H36: =((G36-I36)/I36)*100 -> 30.863352 | I36: =+I35+0 -> 6482345.3
B37: 32 | C37: 03/08/2026 - 07/08/2026 | D37: 0 | E37: 0 | F37: =+E37+D37 -> 0 | G37: =+G36+F37 -> 8483014.4 | H37: =((G37-I37)/I37)*100 -> 30.863352 | I37: =+I36+0 -> 6482345.3
B38: 33 | C38: 10/08/2026 - 14/08/2026 | D38: 520.5 | E38: 0.5 | F38: =+E38+D38 -> 521 | G38: =+G37+F38 -> 8483535.4 | H38: =((G38-I38)/I38)*100 -> 30.871389 | I38: =+I37+0 -> 6482345.3
B39: 34 | C39: 17/08/2026 - 21/08/2026 | D39: 0 | E39: 0 | F39: 0 | G39: =+G38+F39 -> 8483535.4 | H39: =((G39-I39)/I39)*100 -> 30.871389 | I39: =+I38+0 -> 6482345.3
B40: 35 | C40: 24/08/2026 - 28/08/2026 | D40: 0 | E40: 0 | F40: =+E40+D40 -> 0 | G40: =+G39+F40 -> 8483535.4 | H40: =((G40-I40)/I40)*100 -> 30.871389 | I40: =+I39+0 -> 6482345.3
B41: 36
B42: 37
...

Sheet SA Sultana
D3: TOTAL SA SULTANA: WEEKLY PRODUCER DELIVERIES
B4: Publication Date: 2026/08/31
D5: 2026 Marketing Year | H5: Comparison with Previous Marketing Year
D6: 1 January 2026 - 31 December 2026
B7: Week | C7: Week Ending | D7: Reported Deliveries | E7: Adjustments | F7: Week Total | G7: Cum. Total | H7: % Change from Previous Year | I7: Cum. Total 2025
D8: KG
B9: 4 | C9: 19/01/2026 - 23/01/2026 | D9: 281223.5 | E9: 0 | F9: =+D9+E9 -> 281223.5 | G9: =+F9 -> 281223.5 | H9: =((G9-I9)/I9)*100 -> 73.673013 | I9: 161927
B10: 5 | C10: 26/01/2026 - 30/01/2026 | D10: 661494.31 | E10: 0 | F10: =+E10+D10 -> 661494.31 | G10: =+G9+F10 -> 942717.81 | H10: =((G10-I10)/I10)*100 -> -24.606981 | I10: =+I9+1088477.65 -> 1250404.6
B11: 6 | C11: 02/02/2026 - 06/02/2026 | D11: 684028.5 | E11: -79989 | F11: =+E11+D11 -> 604039.5 | G11: =+G10+F11 -> 1546757.3 | H11: =((G11-I11)/I11)*100 -> -30.390469 | I11: =+I10+971643.52 -> 2222048.2
B12: 7 | C12: 09/02/2026 - 13/02/2026 | D12: 106349.5 | E12: 376135 | F12: =+E12+D12 -> 482484.5 | G12: =+G11+F12 -> 2029241.8 | H12: =((G12-I12)/I12)*100 -> -34.974765 | I12: =+I11+898650.77 -> 3120698.9
B13: 8 | C13: 16/02/2026 - 20/02/2026 | D13: 305410.52 | E13: 0 | F13: =+E13+D13 -> 305410.52 | G13: =+G12+F13 -> 2334652.3 | H13: =((G13-I13)/I13)*100 -> -43.624328 | I13: 4141240.8
B14: 9 | C14: 23/02/2026 - 27/02/2026 | D14: 151092 | E14: 0 | F14: =+E14+D14 -> 151092 | G14: =+G13+F14 -> 2485744.3 | H14: =((G14-I14)/I14)*100 -> -48.086158 | I14: =+I13+646970.24 -> 4788211.1
B15: 10 | C15: 02/03/2026 - 06/03/2026 | D15: 511962.51 | E15: 0 | F15: =+E15+D15 -> 511962.51 | G15: =+G14+F15 -> 2997706.8 | H15: =((G15-I15)/I15)*100 -> -53.92478 | I15: =+I14+1717904.01 -> 6506115.1
B16: 11 | C16: 09/03/2026 - 13/03/2026 | D16: 270748 | E16: 0 | F16: =+E16+D16 -> 270748 | G16: =+G15+F16 -> 3268454.8 | H16: =((G16-I16)/I16)*100 -> -54.31456 | I16: =+I15+648144.25 -> 7154259.3
B17: 12 | C17: 16/03/2026 - 20/03/2026 | D17: 374984.52 | E17: 0 | F17: =+E17+D17 -> 374984.52 | G17: =+G16+F17 -> 3643439.4 | H17: =((G17-I17)/I17)*100 -> -53.693033 | I17: =+I16+713756.25 -> 7868015.6
B18: 13 | C18: 23/03/2026 - 27/03/2026 | D18: 249899.5 | E18: 0 | F18: =+E18+D18 -> 249899.5 | G18: =+G17+F18 -> 3893338.9 | H18: =((G18-I18)/I18)*100 -> -54.245921 | I18: 8509271.6
B19: 14 | C19: 30/03/2026 - 03/04/2026 | D19: 42124 | E19: 1829 | F19: =+E19+D19 -> 43953 | G19: =+G18+F19 -> 3937291.9 | H19: =((G19-I19)/I19)*100 -> -56.949211 | I19: =+I18+636418.75 -> 9145690.3
B20: 15 | C20: 06/04/2026 - 10/04/2026 | D20: 10807 | E20: 0 | F20: =+E20+D20 -> 10807 | G20: =+G19+F20 -> 3948098.9 | H20: =((G20-I20)/I20)*100 -> -57.813055 | I20: =+I19+212889.25 -> 9358579.6
B21: 16 | C21: 13/04/2026 - 17/04/2026 | D21: 154714 | E21: 0 | F21: =+E21+D21 -> 154714 | G21: =+G20+F21 -> 4102812.9 | H21: =((G21-I21)/I21)*100 -> -57.687798 | I21: 9696524.1
B22: 17 | C22: 20/04/2026 - 24/04/2026 | D22: 6027 | E22: 18913.5 | F22: =+E22+D22 -> 24940.5 | G22: =+G21+F22 -> 4127753.4 | H22: =((G22-I22)/I22)*100 -> -58.050477 | I22: 9839810.1
B23: 18 | C23: 27/04/2026 - 01/05/2026 | D23: 21416.5 | E23: 0 | F23: =+E23+D23 -> 21416.5 | G23: =+G22+F23 -> 4149169.9 | H23: =((G23-I23)/I23)*100 -> -58.668735 | I23: =+I22+199006.5 -> 10038817
B24: 19 | C24: 04/05/2026 - 08/05/2026 | D24: 2586 | E24: 0 | F24: =+E24+D24 -> 2586 | G24: =+G23+F24 -> 4151755.9 | H24: =((G24-I24)/I24)*100 -> -58.997285 | I24: =+I23+86746.75 -> 10125563
B25: 20 | C25: 11/05/2026 - 15/05/2026 | D25: 15988 | E25: 0 | F25: =+E25+D25 -> 15988 | G25: =+G24+F25 -> 4167743.9 | H25: =((G25-I25)/I25)*100 -> -59.007982 | I25: =+I24+41645 -> 10167208
B26: 21 | C26: 18/05/2026 - 22/05/2026 | D26: 0 | E26: 0 | F26: =+E26+D26 -> 0 | G26: =+G25+F26 -> 4167743.9 | H26: =((G26-I26)/I26)*100 -> -59.028943 | I26: =+I25+5201.5 -> 10172410
B27: 22 | C27: 25/05/2026 - 29/05/2026 | D27: 15319 | E27: 0 | F27: =+E27+D27 -> 15319 | G27: =+G26+F27 -> 4183062.9 | H27: =((G27-I27)/I27)*100 -> -58.879674 | I27: =+I26+327.81 -> 10172738
B28: 23 | C28: 01/06/2026 - 05/06/2026 | D28: 7083 | E28: 0 | F28: =+E28+D28 -> 7083 | G28: =+G27+F28 -> 4190145.9 | H28: =((G28-I28)/I28)*100 -> -58.816476 | I28: =+I27+1588 -> 10174326
B29: 24 | C29: 08/06/2026 - 12/06/2026 | D29: 0 | E29: 0 | F29: =+E29+D29 -> 0 | G29: =+G28+F29 -> 4190145.9 | H29: =((G29-I29)/I29)*100 -> -58.827652 | I29: =+I28+2761.93 -> 10177088
B30: 25 | C30: 15/06/2026 - 19/06/2026 | D30: 4149 | E30: 0 | F30: =+E30+D30 -> 4149 | G30: =+G29+F30 -> 4194294.9 | H30: =((G30-I30)/I30)*100 -> -58.786884 | I30: =+I29+0 -> 10177088
B31: 26 | C31: 22/06/2026 - 26/06/2026 | D31: 15308 | E31: 0 | F31: =+E31+D31 -> 15308 | G31: =+G30+F31 -> 4209602.9 | H31: =((G31-I31)/I31)*100 -> -58.636468 | I31: =+I30+0 -> 10177088
B32: 27 | C32: 29/06/2026 - 03/07/2026 | D32: 0 | E32: 0 | F32: =+E32+D32 -> 0 | G32: =+G31+F32 -> 4209602.9 | H32: =((G32-I32)/I32)*100 -> -58.636468 | I32: =+I31+0 -> 10177088
B33: 28 | C33: 06/07/2026 - 10/07/2026 | D33: 2926 | E33: -156401.5 | F33: =+E33+D33 -> -153475.5 | G33: =+G32+F33 -> 4056127.4 | H33: =((G33-I33)/I33)*100 -> -60.144517 | I33: =+I32+0 -> 10177088
B34: 29 | C34: 13/07/2026 - 17/07/2026 | D34: 0 | E34: 0 | F34: =+E34+D34 -> 0 | G34: =+G33+F34 -> 4056127.4 | H34: =((G34-I34)/I34)*100 -> -60.144517 | I34: =+I33+0 -> 10177088
B35: 30 | C35: 20/07/2026 - 24/07/2026 | D35: 0 | E35: 0 | F35: =+E35+D35 -> 0 | G35: =+G34+F35 -> 4056127.4 | H35: =((G35-I35)/I35)*100 -> -60.144517 | I35: =+I34+0 -> 10177088
B36: 31 | C36: 27/07/2026 - 31/07/2026 | D36: 29858.5 | E36: 0 | F36: =+E36+D36 -> 29858.5 | G36: =+G35+F36 -> 4085985.9 | H36: =((G36-I36)/I36)*100 -> -59.851128 | I36: =+I35+0 -> 10177088
B37: 32 | C37: 03/08/2026 - 07/08/2026 | D37: 0 | E37: 0 | F37: =+E37+D37 -> 0 | G37: =+G36+F37 -> 4085985.9 | H37: =((G37-I37)/I37)*100 -> -59.851128 | I37: =+I36+0 -> 10177088
B38: 33 | C38: 10/08/2026 - 14/08/2026 | D38: 0 | E38: 415.5 | F38: =+E38+D38 -> 415.5 | G38: =+G37+F38 -> 4086401.4 | H38: =((G38-I38)/I38)*100 -> -59.847045 | I38: =+I37+0 -> 10177088
B39: 34 | C39: 17/08/2026 - 21/08/2026 | D39: 0 | E39: 0 | F39: 0 | G39: =+G38+F39 -> 4086401.4 | H39: =((G39-I39)/I39)*100 -> -59.847045 | I39: =+I38+0 -> 10177088
B40: 35 | C40: 24/08/2026 - 28/08/2026 | D40: 10980 | E40: 0 | F40: =+E40+D40 -> 10980 | G40: =+G39+F40 -> 4097381.4 | H40: =((G40-I40)/I40)*100 -> -59.739156 | I40: =+I39+0 -> 10177088
B41: 36
B42: 37
...

Sheet OR Sultana
D3: TOTAL OR SULTANA: WEEKLY PRODUCER DELIVERIES
B4: Publication Date: 2026/08/31
D5: 2026 Marketing Year | H5: Comparison with Previous Marketing Year
D6: 1 January 2026 - 31 December 2026
B7: Week | C7: Week Ending | D7: Reported Deliveries | E7: Adjustments | F7: Week Total | G7: Cum. Total | H7: % Change from Previous Year | I7: Cum. Total 2025
D8: KG
B9: 4 | C9: 19/01/2026 - 23/01/2026 | D9: 386194 | E9: 0 | F9: =+D9+E9 -> 386194 | G9: =+F9 -> 386194 | H9: =((G9-I9)/I9)*100 -> 25.312698 | I9: 308184.25
B10: 5 | C10: 26/01/2026 - 30/01/2026 | D10: 472540.01 | E10: 0 | F10: =+E10+D10 -> 472540.01 | G10: =+G9+F10 -> 858734.01 | H10: =((G10-I10)/I10)*100 -> -2.2520567 | I10: =+I9+570334.5 -> 878518.75
B11: 6 | C11: 02/02/2026 - 06/02/2026 | D11: 518051.5 | E11: 0 | F11: =+E11+D11 -> 518051.5 | G11: =+G10+F11 -> 1376785.5 | H11: =((G11-I11)/I11)*100 -> 12.154008 | I11: =+I10+349066.01 -> 1227584.8
B12: 7 | C12: 09/02/2026 - 13/02/2026 | D12: 506029.52 | E12: 225496 | F12: =+E12+D12 -> 731525.52 | G12: =+G11+F12 -> 2108311 | H12: =((G12-I12)/I12)*100 -> 20.059304 | I12: =+I11+528473.26 -> 1756058
B13: 8 | C13: 16/02/2026 - 20/02/2026 | D13: 327481.5 | E13: 0 | F13: =+E13+D13 -> 327481.5 | G13: =+G12+F13 -> 2435792.5 | H13: =((G13-I13)/I13)*100 -> 18.48865 | I13: 2055718
B14: 9 | C14: 23/02/2026 - 27/02/2026 | D14: 157341 | E14: 0 | F14: =+E14+D14 -> 157341 | G14: =+G13+F14 -> 2593133.5 | H14: =((G14-I14)/I14)*100 -> 11.967402 | I14: =+I13+260253.85 -> 2315971.9
B15: 10 | C15: 02/03/2026 - 06/03/2026 | D15: 648003.5 | E15: 0 | F15: =+E15+D15 -> 648003.5 | G15: =+G14+F15 -> 3241137 | H15: =((G15-I15)/I15)*100 -> 15.257378 | I15: =+I14+496114.5 -> 2812086.4
B16: 11 | C16: 09/03/2026 - 13/03/2026 | D16: 185132.5 | E16: 0 | F16: =+E16+D16 -> 185132.5 | G16: =+G15+F16 -> 3426269.5 | H16: =((G16-I16)/I16)*100 -> 15.716154 | I16: =+I15+148839.5 -> 2960925.9
B17: 12 | C17: 16/03/2026 - 20/03/2026 | D17: 105394.5 | E17: 0 | F17: =+E17+D17 -> 105394.5 | G17: =+G16+F17 -> 3531664 | H17: =((G17-I17)/I17)*100 -> 18.083238 | I17: =+I16+29900 -> 2990825.9
B18: 13 | C18: 23/03/2026 - 27/03/2026 | D18: 28497.5 | E18: 0 | F18: =+E18+D18 -> 28497.5 | G18: =+G17+F18 -> 3560161.5 | H18: =((G18-I18)/I18)*100 -> 16.45011 | I18: 3057241.9
B19: 14 | C19: 30/03/2026 - 03/04/2026 | D19: 895 | E19: 0 | F19: =+E19+D19 -> 895 | G19: =+G18+F19 -> 3561056.5 | H19: =((G19-I19)/I19)*100 -> 16.465671 | I19: =+I18+360 -> 3057601.9
B20: 15 | C20: 06/04/2026 - 10/04/2026 | D20: 4500 | E20: 0 | F20: =+E20+D20 -> 4500 | G20: =+G19+F20 -> 3565556.5 | H20: =((G20-I20)/I20)*100 -> 16.212869 | I20: =+I19+10523.5 -> 3068125.4
B21: 16 | C21: 13/04/2026 - 17/04/2026 | D21: 34768 | E21: 0 | F21: =+E21+D21 -> 34768 | G21: =+G20+F21 -> 3600324.5 | H21: =((G21-I21)/I21)*100 -> 16.678636 | I21: 3085675.9
B22: 17 | C22: 20/04/2026 - 24/04/2026 | D22: 879 | E22: 0 | F22: =+E22+D22 -> 879 | G22: =+G21+F22 -> 3601203.5 | H22: =((G22-I22)/I22)*100 -> 16.68691 | I22: 3086210.4
B23: 18 | C23: 27/04/2026 - 01/05/2026 | D23: 228 | E23: 0 | F23: =+E23+D23 -> 228 | G23: =+G22+F23 -> 3601431.5 | H23: =((G23-I23)/I23)*100 -> 15.608714 | I23: =+I22+28980 -> 3115190.4
B24: 19 | C24: 04/05/2026 - 08/05/2026 | D24: 10036.5 | E24: 0 | F24: =+E24+D24 -> 10036.5 | G24: =+G23+F24 -> 3611468 | H24: =((G24-I24)/I24)*100 -> 15.930893 | I24: =+I23+0 -> 3115190.4
B25: 20 | C25: 11/05/2026 - 15/05/2026 | D25: 0 | E25: 0 | F25: =+E25+D25 -> 0 | G25: =+G24+F25 -> 3611468 | H25: =((G25-I25)/I25)*100 -> 15.930893 | I25: =+I24+0 -> 3115190.4
B26: 21 | C26: 18/05/2026 - 22/05/2026 | D26: 0 | E26: 0 | F26: =+E26+D26 -> 0 | G26: =+G25+F26 -> 3611468 | H26: =((G26-I26)/I26)*100 -> 15.930893 | I26: =+I25+0 -> 3115190.4
B27: 22 | C27: 25/05/2026 - 29/05/2026 | D27: 0 | E27: 0 | F27: =+E27+D27 -> 0 | G27: =+G26+F27 -> 3611468 | H27: =((G27-I27)/I27)*100 -> 15.930893 | I27: =+I26+0 -> 3115190.4
B28: 23 | C28: 01/06/2026 - 05/06/2026 | D28: 8871.5 | E28: 0 | F28: =+E28+D28 -> 8871.5 | G28: =+G27+F28 -> 3620339.5 | H28: =((G28-I28)/I28)*100 -> 16.215675 | I28: =+I27+0 -> 3115190.4
B29: 24 | C29: 08/06/2026 - 12/06/2026 | D29: 0 | E29: 0 | F29: =+E29+D29 -> 0 | G29: =+G28+F29 -> 3620339.5 | H29: =((G29-I29)/I29)*100 -> 11.366266 | I29: =+I28+135650.01 -> 3250840.4
B30: 25 | C30: 15/06/2026 - 19/06/2026 | D30: 0 | E30: 0 | F30: =+E30+D30 -> 0 | G30: =+G29+F30 -> 3620339.5 | H30: =((G30-I30)/I30)*100 -> 11.366266 | I30: =+I29+0 -> 3250840.4
B31: 26 | C31: 22/06/2026 - 26/06/2026 | D31: 0 | E31: 0 | F31: =+E31+D31 -> 0 | G31: =+G30+F31 -> 3620339.5 | H31: =((G31-I31)/I31)*100 -> 11.366266 | I31: =+I30+0 -> 3250840.4
B32: 27 | C32: 29/06/2026 - 03/07/2026 | D32: 0 | E32: 0 | F32: =+E32+D32 -> 0 | G32: =+G31+F32 -> 3620339.5 | H32: =((G32-I32)/I32)*100 -> 11.366266 | I32: =+I31+0 -> 3250840.4
B33: 28 | C33: 06/07/2026 - 10/07/2026 | D33: 0 | E33: -21789 | F33: =+E33+D33 -> -21789 | G33: =+G32+F33 -> 3598550.5 | H33: =((G33-I33)/I33)*100 -> 10.696008 | I33: =+I32+0 -> 3250840.4
B34: 29 | C34: 13/07/2026 - 17/07/2026 | D34: 0 | E34: 0 | F34: =+E34+D34 -> 0 | G34: =+G33+F34 -> 3598550.5 | H34: =((G34-I34)/I34)*100 -> 10.696008 | I34: =+I33+0 -> 3250840.4
B35: 30 | C35: 20/07/2026 - 24/07/2026 | D35: 0 | E35: 0 | F35: =+E35+D35 -> 0 | G35: =+G34+F35 -> 3598550.5 | H35: =((G35-I35)/I35)*100 -> 10.696008 | I35: =+I34+0 -> 3250840.4
B36: 31 | C36: 27/07/2026 - 31/07/2026 | D36: 0 | E36: 0 | F36: =+E36+D36 -> 0 | G36: =+G35+F36 -> 3598550.5 | H36: =((G36-I36)/I36)*100 -> 10.696008 | I36: =+I35+0 -> 3250840.4
B37: 32 | C37: 03/08/2026 - 07/08/2026 | D37: 0 | E37: 0 | F37: =+E37+D37 -> 0 | G37: =+G36+F37 -> 3598550.5 | H37: =((G37-I37)/I37)*100 -> 10.696008 | I37: =+I36+0 -> 3250840.4
B38: 33 | C38: 10/08/2026 - 14/08/2026 | D38: 0 | E38: 0 | F38: =+E38+D38 -> 0 | G38: =+G37+F38 -> 3598550.5 | H38: =((G38-I38)/I38)*100 -> 10.696008 | I38: =+I37+0 -> 3250840.4
B39: 34 | C39: 17/08/2026 - 21/08/2026 | D39: 0 | E39: 0 | F39: 0 | G39: =+G38+F39 -> 3598550.5 | H39: =((G39-I39)/I39)*100 -> 10.696008 | I39: =+I38+0 -> 3250840.4
B40: 35 | C40: 24/08/2026 - 28/08/2026 | D40: 0 | E40: 0 | F40: =+E40+D40 -> 0 | G40: =+G39+F40 -> 3598550.5 | H40: =((G40-I40)/I40)*100 -> 10.696008 | I40: =+I39+0 -> 3250840.4
B41: 36
B42: 37
...

Sheet Goldens
D3: TOTAL GOLDENS: WEEKLY PRODUCER DELIVERIES
B4: Publication Date: 2026/08/31
D5: 2026 Marketing Year | H5: Comparison with Previous Marketing Year
D6: 1 January 2026 - 31 December 2026
B7: Week | C7: Week Ending | D7: Reported Deliveries | E7: Adjustments | F7: Week Total | G7: Cum. Total | H7: % Change from Previous Year | I7: Cum. Total 2025
D8: KG
B9: 4 | C9: 19/01/2026 - 23/01/2026 | D9: 116966.7 | E9: 0 | F9: =+D9+E9 -> 116966.7 | G9: =+F9 -> 116966.7 | H9: =((G9-I9)/I9)*100 -> 191.63662 | I9: 40107
B10: 5 | C10: 26/01/2026 - 30/01/2026 | D10: 165330.03 | E10: 0 | F10: =+E10+D10 -> 165330.03 | G10: =+G9+F10 -> 282296.73 | H10: =((G10-I10)/I10)*100 -> -35.736222 | I10: =+I9+399171.14 -> 439278.14
B11: 6 | C11: 02/02/2026 - 06/02/2026 | D11: 896702.52 | E11: 0 | F11: =+E11+D11 -> 896702.52 | G11: =+G10+F11 -> 1178999.2 | H11: =((G11-I11)/I11)*100 -> 44.606209 | I11: =+I10+376039.03 -> 815317.17
B12: 7 | C12: 09/02/2026 - 13/02/2026 | D12: 570167.59 | E12: 400197.5 | F12: =+E12+D12 -> 970365.09 | G12: =+G11+F12 -> 2149364.3 | H12: =((G12-I12)/I12)*100 -> 40.107075 | I12: =+I11+718769.77 -> 1534086.9
B13: 8 | C13: 16/02/2026 - 20/02/2026 | D13: 1091406 | E13: 0 | F13: =+E13+D13 -> 1091406 | G13: =+G12+F13 -> 3240770.3 | H13: =((G13-I13)/I13)*100 -> 30.957374 | I13: 2474675.7
B14: 9 | C14: 23/02/2026 - 27/02/2026 | D14: 863298.01 | E14: 0 | F14: =+E14+D14 -> 863298.01 | G14: =+G13+F14 -> 4104068.4 | H14: =((G14-I14)/I14)*100 -> 2.464847 | I14: =+I13+1530667.07 -> 4005342.8
B15: 10 | C15: 02/03/2026 - 06/03/2026 | D15: 1404338.5 | E15: 0 | F15: =+E15+D15 -> 1404338.5 | G15: =+G14+F15 -> 5508406.9 | H15: =((G15-I15)/I15)*100 -> -5.7205905 | I15: =+I14+1837297.62 -> 5842640.4
B16: 11 | C16: 09/03/2026 - 13/03/2026 | D16: 2418715.5 | E16: 0 | F16: =+E16+D16 -> 2418715.5 | G16: =+G15+F16 -> 7927122.4 | H16: =((G16-I16)/I16)*100 -> 13.704628 | I16: =+I15+1129039.25 -> 6971679.7
B17: 12 | C17: 16/03/2026 - 20/03/2026 | D17: 2585248.5 | E17: 0 | F17: =+E17+D17 -> 2585248.5 | G17: =+G16+F17 -> 10512371 | H17: =((G17-I17)/I17)*100 -> 35.563974 | I17: =+I16+782866.51 -> 7754546.2
B18: 13 | C18: 23/03/2026 - 27/03/2026 | D18: 1450265.1 | E18: 0 | F18: =+E18+D18 -> 1450265.1 | G18: =+G17+F18 -> 11962636 | H18: =((G18-I18)/I18)*100 -> 42.026167 | I18: 8422839.4
B19: 14 | C19: 30/03/2026 - 03/04/2026 | D19: 293840 | E19: 67776.5 | F19: =+E19+D19 -> 361616.5 | G19: =+G18+F19 -> 12324252 | H19: =((G19-I19)/I19)*100 -> 26.818112 | I19: =+I18+1295214.5 -> 9718053.9
B20: 15 | C20: 06/04/2026 - 10/04/2026 | D20: 636937 | E20: 0 | F20: =+E20+D20 -> 636937 | G20: =+G19+F20 -> 12961190 | H20: =((G20-I20)/I20)*100 -> 23.965992 | I20: =737385.75+I19 -> 10455440
B21: 16 | C21: 13/04/2026 - 17/04/2026 | D21: 797584.5 | E21: 35132 | F21: =+E21+D21 -> 832716.5 | G21: =+G20+F21 -> 13793906 | H21: =((G21-I21)/I21)*100 -> 22.293354 | I21: 11279359
B22: 17 | C22: 20/04/2026 - 24/04/2026 | D22: 420456 | E22: 77181.5 | F22: =+E22+D22 -> 497637.5 | G22: =+G21+F22 -> 14291544 | H22: =((G22-I22)/I22)*100 -> 18.710233 | I22: 12039016
B23: 18 | C23: 27/04/2026 - 01/05/2026 | D23: 314257.5 | E23: 0 | F23: =+E23+D23 -> 314257.5 | G23: =+G22+F23 -> 14605801 | H23: =((G23-I23)/I23)*100 -> 12.037641 | I23: =+I22+997496.75 -> 13036512
B24: 19 | C24: 04/05/2026 - 08/05/2026 | D24: 333090 | E24: 0 | F24: =+E24+D24 -> 333090 | G24: =+G23+F24 -> 14938891 | H24: =((G24-I24)/I24)*100 -> 9.906151 | I24: =+I23+555894.25 -> 13592407
B25: 20 | C25: 11/05/2026 - 15/05/2026 | D25: 84067.5 | E25: 10850 | F25: =+E25+D25 -> 94917.5 | G25: =+G24+F25 -> 15033808 | H25: =((G25-I25)/I25)*100 -> 3.7810949 | I25: =+I24+893669.54 -> 14486076
B26: 21 | C26: 18/05/2026 - 22/05/2026 | D26: 358629.5 | E26: 0 | F26: =+E26+D26 -> 358629.5 | G26: =+G25+F26 -> 15392438 | H26: =((G26-I26)/I26)*100 -> 3.5121895 | I26: =+I25+384093.26 -> 14870169
B27: 22 | C27: 25/05/2026 - 29/05/2026 | D27: 470714 | E27: 0 | F27: =+E27+D27 -> 470714 | G27: =+G26+F27 -> 15863152 | H27: =((G27-I27)/I27)*100 -> 4.7216641 | I27: =+I26+277748.72 -> 15147918
B28: 23 | C28: 01/06/2026 - 05/06/2026 | D28: 545344 | E28: 0 | F28: =+E28+D28 -> 545344 | G28: =+G27+F28 -> 16408496 | H28: =((G28-I28)/I28)*100 -> 7.6819741 | I28: =+I27+90004.53 -> 15237923
B29: 24 | C29: 08/06/2026 - 12/06/2026 | D29: 214752.3 | E29: 0 | F29: =+E29+D29 -> 214752.3 | G29: =+G28+F29 -> 16623248 | H29: =((G29-I29)/I29)*100 -> 8.3895725 | I29: =+I28+98652.49 -> 15336575
B30: 25 | C30: 15/06/2026 - 19/06/2026 | D30: 268742.7 | E30: 0 | F30: =+E30+D30 -> 268742.7 | G30: =+G29+F30 -> 16891991 | H30: =((G30-I30)/I30)*100 -> 10.141872 | I30: =+I29+0 -> 15336575
B31: 26 | C31: 22/06/2026 - 26/06/2026 | D31: 128.5 | E31: 0 | F31: =+E31+D31 -> 128.5 | G31: =+G30+F31 -> 16892120 | H31: =((G31-I31)/I31)*100 -> 10.14271 | I31: =+I30+0 -> 15336575
B32: 27 | C32: 29/06/2026 - 03/07/2026 | D32: 0 | E32: 0 | F32: =+E32+D32 -> 0 | G32: =+G31+F32 -> 16892120 | H32: =((G32-I32)/I32)*100 -> 10.14271 | I32: =+I31+0 -> 15336575
B33: 28 | C33: 06/07/2026 - 10/07/2026 | D33: 26487 | E33: 3241 | F33: =+E33+D33 -> 29728 | G33: =+G32+F33 -> 16921848 | H33: =((G33-I33)/I33)*100 -> 10.336547 | I33: =+I32+0 -> 15336575
B34: 29 | C34: 13/07/2026 - 17/07/2026 | D34: 0 | E34: 0 | F34: =+E34+D34 -> 0 | G34: =+G33+F34 -> 16921848 | H34: =((G34-I34)/I34)*100 -> 10.336547 | I34: =+I33+0 -> 15336575
B35: 30 | C35: 20/07/2026 - 24/07/2026 | D35: 147438 | E35: 0 | F35: =+E35+D35 -> 147438 | G35: =+G34+F35 -> 17069286 | H35: =((G35-I35)/I35)*100 -> 11.297896 | I35: =+I34+0 -> 15336575
B36: 31 | C36: 27/07/2026 - 31/07/2026 | D36: 19192.5 | E36: 0 | F36: =+E36+D36 -> 19192.5 | G36: =+G35+F36 -> 17088478 | H36: =((G36-I36)/I36)*100 -> 11.423038 | I36: =+I35+0 -> 15336575
B37: 32 | C37: 03/08/2026 - 07/08/2026 | D37: 4320 | E37: 0 | F37: =+E37+D37 -> 4320 | G37: =+G36+F37 -> 17092798 | H37: =((G37-I37)/I37)*100 -> 11.451206 | I37: =+I36+0 -> 15336575
B38: 33 | C38: 10/08/2026 - 14/08/2026 | D38: =35990+15251.5+718.5 -> 51960 | E38: =3862-7299+6268 -> 2831 | F38: =+E38+D38 -> 54791 | G38: =+G37+F38 -> 17147589 | H38: =((G38-I38)/I38)*100 -> 11.808463 | I38: =+I37+0 -> 15336575
B39: 34 | C39: 17/08/2026 - 21/08/2026 | D39: 0 | E39: 0 | F39: 0 | G39: =+G38+F39 -> 17147589 | H39: =((G39-I39)/I39)*100 -> 11.808463 | I39: =+I38+0 -> 15336575
B40: 35 | C40: 24/08/2026 - 28/08/2026 | D40: 79699.5 | E40: 0 | F40: =+E40+D40 -> 79699.5 | G40: =+G39+F40 -> 17227288 | H40: =((G40-I40)/I40)*100 -> 12.328132 | I40: =+I39+0 -> 15336575
B41: 36
B42: 37
...

Sheet Currants
D3: TOTAL CURRANTS: WEEKLY PRODUCER DELIVERIES
B4: Publication Date: 2026/08/31
D5: 2026 Marketing Year | H5: Comparison with Previous Marketing Year
D6: 1 January 2026 - 31 December 2026
B7: Week | C7: Week Ending | D7: Reported Deliveries | E7: Adjustments | F7: Week Total | G7: Cum. Total | H7: % Change from Previous Year | I7: Cum. Total 2025
D8: KG
B9: 4 | C9: 19/01/2026 - 23/01/2026 | D9: 0 | E9: 0 | F9: =+D9+E9 -> 0 | G9: =+F9 -> 0 | H9: =((G9-I9)/I9)*100 -> #DIV/0! | I9: 0
B10: 5 | C10: 26/01/2026 - 30/01/2026 | D10: 245586 | E10: 0 | F10: =+E10+D10 -> 245586 | G10: =+G9+F10 -> 245586 | H10: =((G10-I10)/I10)*100 -> 381.03185 | I10: 51054
B11: 6 | C11: 02/02/2026 - 06/02/2026 | D11: 312835.9 | E11: 0 | F11: =+E11+D11 -> 312835.9 | G11: =+G10+F11 -> 558421.9 | H11: =((G11-I11)/I11)*100 -> 31.059264 | I11: =+I10+375029.5 -> 426083.5
B12: 7 | C12: 09/02/2026 - 13/02/2026 | D12: 309034 | E12: 217067 | F12: =+E12+D12 -> 526101 | G12: =+G11+F12 -> 1084522.9 | H12: =((G12-I12)/I12)*100 -> 40.323196 | I12: =+I11+346791.5 -> 772875
B13: 8 | C13: 16/02/2026 - 20/02/2026 | D13: 480779 | E13: 0 | F13: =+E13+D13 -> 480779 | G13: =+G12+F13 -> 1565301.9 | H13: =((G13-I13)/I13)*100 -> 16.740307 | I13: 1340841
B14: 9 | C14: 23/02/2026 - 27/02/2026 | D14: 230527 | E14: 0 | F14: =+E14+D14 -> 230527 | G14: =+G13+F14 -> 1795828.9 | H14: =((G14-I14)/I14)*100 -> 12.294682 | I14: =+I13+258370 -> 1599211
B15: 10 | C15: 02/03/2026 - 06/03/2026 | D15: 441354 | E15: 0 | F15: =+E15+D15 -> 441354 | G15: =+G14+F15 -> 2237182.9 | H15: =((G15-I15)/I15)*100 -> 2.861987 | I15: =+I14+575725.5 -> 2174936.5
B16: 11 | C16: 09/03/2026 - 13/03/2026 | D16: 400342.5 | E16: 0 | F16: =+E16+D16 -> 400342.5 | G16: =+G15+F16 -> 2637525.4 | H16: =((G16-I16)/I16)*100 -> -5.7733194 | I16: =+I15+624191.5 -> 2799128
B17: 12 | C17: 16/03/2026 - 20/03/2026 | D17: 272234 | E17: 0 | F17: =+E17+D17 -> 272234 | G17: =+G16+F17 -> 2909759.4 | H17: =((G17-I17)/I17)*100 -> -10.438174 | I17: =+I16+449755.5 -> 3248883.5
B18: 13 | C18: 23/03/2026 - 27/03/2026 | D18: 143143 | E18: 0 | F18: =+E18+D18 -> 143143 | G18: =+G17+F18 -> 3052902.4 | H18: =((G18-I18)/I18)*100 -> -13.490246 | I18: 3528969
B19: 14 | C19: 30/03/2026 - 03/04/2026 | D19: 79621 | E19: 0 | F19: =+E19+D19 -> 79621 | G19: =+G18+F19 -> 3132523.4 | H19: =((G19-I19)/I19)*100 -> -14.387309 | I19: =+I18+129978.5 -> 3658947.5
B20: 15 | C20: 06/04/2026 - 10/04/2026 | D20: 47870 | E20: 0 | F20: =+E20+D20 -> 47870 | G20: =+G19+F20 -> 3180393.4 | H20: =((G20-I20)/I20)*100 -> -15.337623 | I20: =+I19+97613 -> 3756560.5
B21: 16 | C21: 13/04/2026 - 17/04/2026 | D21: 81430.5 | E21: 0 | F21: =+E21+D21 -> 81430.5 | G21: =+G20+F21 -> 3261823.9 | H21: =((G21-I21)/I21)*100 -> -14.373924 | I21: 3809381.5
B22: 17 | C22: 20/04/2026 - 24/04/2026 | D22: 0 | E22: 0 | F22: =+E22+D22 -> 0 | G22: =+G21+F22 -> 3261823.9 | H22: =((G22-I22)/I22)*100 -> -16.04381 | I22: 3885150
B23: 18 | C23: 27/04/2026 - 01/05/2026 | D23: 0 | E23: 0 | F23: =+E23+D23 -> 0 | G23: =+G22+F23 -> 3261823.9 | H23: =((G23-I23)/I23)*100 -> -17.517442 | I23: =+I22+69412 -> 3954562
B24: 19 | C24: 04/05/2026 - 08/05/2026 | D24: 0 | E24: 0 | F24: =+E24+D24 -> 0 | G24: =+G23+F24 -> 3261823.9 | H24: =((G24-I24)/I24)*100 -> -17.579217 | I24: =+I23+2964 -> 3957526
B25: 20 | C25: 11/05/2026 - 11/05/2026 | D25: 0 | E25: 0 | F25: =+E25+D25 -> 0 | G25: =+G24+F25 -> 3261823.9 | H25: =((G25-I25)/I25)*100 -> -17.583695 | I25: =+I24+215 -> 3957741
B26: 21 | C26: 18/05/2026 - 22/05/2026 | D26: 0 | E26: 0 | F26: =+E26+D26 -> 0 | G26: =+G25+F26 -> 3261823.9 | H26: =((G26-I26)/I26)*100 -> -17.707371 | I26: =+I25+5948 -> 3963689
B27: 22 | C27: 25/05/2026 - 29/05/2026 | D27: 1484.5 | E27: 0 | F27: =+E27+D27 -> 1484.5 | G27: =+G26+F27 -> 3263308.4 | H27: =((G27-I27)/I27)*100 -> -17.87691 | I27: =+I26+9990.5 -> 3973679.5
B28: 23 | C28: 01/06/2026 - 05/06/2026 | D28: 0 | E28: 0 | F28: =+E28+D28 -> 0 | G28: =+G27+F28 -> 3263308.4 | H28: =((G28-I28)/I28)*100 -> -17.87691 | I28: =+I27+0 -> 3973679.5
B29: 24 | C29: 08/06/2026 - 12/06/2026 | D29: 0 | E29: 0 | F29: =+E29+D29 -> 0 | G29: =+G28+F29 -> 3263308.4 | H29: =((G29-I29)/I29)*100 -> -23.307411 | I29: =+I28+281371.02 -> 4255050.5
B30: 25 | C30: 15/06/2026 - 19/06/2026 | D30: 0 | E30: 0 | F30: =+E30+D30 -> 0 | G30: =+G29+F30 -> 3263308.4 | H30: =((G30-I30)/I30)*100 -> -23.307411 | I30: =+I29+0 -> 4255050.5
B31: 26 | C31: 22/06/2026 - 26/06/2026 | D31: 0 | E31: 0 | F31: =+E31+D31 -> 0 | G31: =+G30+F31 -> 3263308.4 | H31: =((G31-I31)/I31)*100 -> -23.307411 | I31: =+I30+0 -> 4255050.5
B32: 27 | C32: 29/06/2026 - 03/07/2026 | D32: 0 | E32: 0 | F32: =+E32+D32 -> 0 | G32: =+G31+F32 -> 3263308.4 | H32: =((G32-I32)/I32)*100 -> -23.307411 | I32: =+I31+0 -> 4255050.5
B33: 28 | C33: 06/07/2026 - 10/07/2026 | D33: 0 | E33: 281501 | F33: =+E33+D33 -> 281501 | G33: =+G32+F33 -> 3544809.4 | H33: =((G33-I33)/I33)*100 -> -16.69172 | I33: =+I32+0 -> 4255050.5
B34: 29 | C34: 13/07/2026 - 17/07/2026 | D34: 0 | E34: 0 | F34: =+E34+D34 -> 0 | G34: =+G33+F34 -> 3544809.4 | H34: =((G34-I34)/I34)*100 -> -16.69172 | I34: =+I33+0 -> 4255050.5
B35: 30 | C35: 20/07/2026 - 24/07/2026 | D35: 0 | E35: 0 | F35: =+E35+D35 -> 0 | G35: =+G34+F35 -> 3544809.4 | H35: =((G35-I35)/I35)*100 -> -16.69172 | I35: =+I34+0 -> 4255050.5
B36: 31 | C36: 27/07/2026 - 31/07/2026 | D36: 0 | E36: 0 | F36: =+E36+D36 -> 0 | G36: =+G35+F36 -> 3544809.4 | H36: =((G36-I36)/I36)*100 -> -16.69172 | I36: =+I35+0 -> 4255050.5
B37: 32 | C37: 03/08/2026 - 07/08/2026 | D37: 0 | E37: 0 | F37: =+E37+D37 -> 0 | G37: =+G36+F37 -> 3544809.4 | H37: =((G37-I37)/I37)*100 -> -16.69172 | I37: =+I36+0 -> 4255050.5
B38: 33 | C38: 10/08/2026 - 14/08/2026 | D38: 0 | E38: 0 | F38: =+E38+D38 -> 0 | G38: =+G37+F38 -> 3544809.4 | H38: =((G38-I38)/I38)*100 -> -16.69172 | I38: =+I37+0 -> 4255050.5
B39: 34 | C39: 17/08/2026 - 21/08/2026 | D39: 0 | E39: 0 | F39: 0 | G39: =+G38+F39 -> 3544809.4 | H39: =((G39-I39)/I39)*100 -> -16.69172 | I39: =+I38+0 -> 4255050.5
B40: 35 | C40: 24/08/2026 - 28/08/2026 | D40: 0 | E40: 0 | F40: =+E40+D40 -> 0 | G40: =+G39+F40 -> 3544809.4 | H40: =((G40-I40)/I40)*100 -> -16.69172 | I40: =+I39+0 -> 4255050.5
B41: 36
B42: 37
...

Sheet Other
D3: TOTAL OTHER TYPE: WEEKLY PRODUCER DELIVERIES
B4: Publication Date: 2026/08/31
D5: 2026 Marketing Year | H5: Comparison with Previous Marketing Year
D6: 1 January 2026 - 31 December 2026
B7: Week | C7: Week Ending | D7: Reported Deliveries | E7: Adjustments | F7: Week Total | G7: Cum. Total | H7: % Change from Previous Year | I7: Cum. Total 2025
D8: KG
B9: 4 | C9: 19/01/2026 - 23/01/2026 | D9: 180929.31 | E9: 0 | F9: =+D9+E9 -> 180929.31 | G9: =+F9 -> 180929.31 | H9: =((G9-I11)/I11)*100 -> -72.615434 | I9: 31440
B10: 5 | C10: 26/01/2026 - 30/01/2026 | D10: 93255.93 | E10: 0 | F10: =+E10+D10 -> 93255.93 | G10: =+G9+F10 -> 274185.24 | H10: =((G10-I10)/I10)*100 -> -45.998035 | I10: =+I9+476291.97 -> 507731.97
B11: 6 | C11: 02/02/2026 - 06/02/2026 | D11: 242659.54 | E11: 0 | F11: =+E11+D11 -> 242659.54 | G11: =+G10+F11 -> 516844.78 | H11: =((G11-I11)/I11)*100 -> -21.772929 | I11: =+I10+152966.14 -> 660698.11
B12: 7 | C12: 09/02/2026 - 13/02/2026 | D12: 60050.02 | E12: 110420.5 | F12: =+E12+D12 -> 170470.52 | G12: =+G11+F12 -> 687315.3 | H12: =((G12-I12)/I12)*100 -> -20.094545 | I12: =+I11+199462.56 -> 860160.67
B13: 8 | C13: 16/02/2026 - 20/02/2026 | D13: 212440.55 | E13: 0 | F13: =+E13+D13 -> 212440.55 | G13: =+G12+F13 -> 899755.85 | H13: =((G13-I13)/I13)*100 -> -10.562987 | I13: 1006021.8
B14: 9 | C14: 23/02/2026 - 27/02/2026 | D14: 66821.51 | E14: 0 | F14: =+E14+D14 -> 66821.51 | G14: =+G13+F14 -> 966577.36 | H14: =((G14-I14)/I14)*100 -> -25.496879 | I14: =+I13+291343.13 -> 1297364.9
B15: 10 | C15: 02/03/2026 - 06/03/2026 | D15: 298695 | E15: =2818.4+2190 -> 5008.4 | F15: =+E15+D15 -> 303703.4 | G15: =+G14+F15 -> 1270280.8 | H15: =((G15-I15)/I15)*100 -> -15.30742 | I15: =+I14+202507.62 -> 1499872.6
B16: 11 | C16: 09/03/2026 - 13/03/2026 | D16: 166581.52 | E16: 0 | F16: =+E16+D16 -> 166581.52 | G16: =+G15+F16 -> 1436862.3 | H16: =((G16-I16)/I16)*100 -> -16.306668 | I16: =+I15+216945.55 -> 1716818.1
B17: 12 | C17: 16/03/2026 - 20/03/2026 | D17: 199776.5 | E17: 0 | F17: =+E17+D17 -> 199776.5 | G17: =+G16+F17 -> 1636638.8 | H17: =((G17-I17)/I17)*100 -> -19.908776 | I17: =+I16+326650.21 -> 2043468.3
B18: 13 | C18: 23/03/2026 - 27/03/2026 | D18: 228932 | E18: 0 | F18: =+E18+D18 -> 228932 | G18: =+G17+F18 -> 1865570.8 | H18: =((G18-I18)/I18)*100 -> -12.515753 | I18: 2132464.8
B19: 14 | C19: 30/03/2026 - 03/04/2026 | D19: 44366.51 | E19: 0 | F19: =+E19+D19 -> 44366.51 | G19: =+G18+F19 -> 1909937.3 | H19: =((G19-I19)/I19)*100 -> -15.388373 | I19: =+I18+124834.05 -> 2257298.9
B20: 15 | C20: 06/04/2026 - 10/04/2026 | D20: 119424 | E20: 0 | F20: =+E20+D20 -> 119424 | G20: =+G19+F20 -> 2029361.3 | H20: =((G20-I20)/I20)*100 -> -17.801199 | I20: =+I19+211546.52 -> 2468845.4
B21: 16 | C21: 13/04/2026 - 17/04/2026 | D21: 82566.5 | E21: 0 | F21: =+E21+D21 -> 82566.5 | G21: =+G20+F21 -> 2111927.8 | H21: =((G21-I21)/I21)*100 -> -17.596736 | I21: 2562917.6
B22: 17 | C22: 20/04/2026 - 24/04/2026 | D22: 38780.5 | E22: 22369 | F22: =+E22+D22 -> 61149.5 | G22: =+G21+F22 -> 2173077.3 | H22: =((G22-I22)/I22)*100 -> -16.333933 | I22: 2597322.2
B23: 18 | C23: 27/04/2026 - 01/05/2026 | D23: 42804.5 | E23: 0 | F23: =+E23+D23 -> 42804.5 | G23: =+G22+F23 -> 2215881.8 | H23: =((G23-I23)/I23)*100 -> -18.136681 | I23: =+I22+109484.51 -> 2706806.7
B24: 19 | C24: 04/05/2026 - 08/05/2026 | D24: 49453.5 | E24: 0 | F24: =+E24+D24 -> 49453.5 | G24: =+G23+F24 -> 2265335.3 | H24: =((G24-I24)/I24)*100 -> -17.389261 | I24: =+I23+35373.5 -> 2742180.2
B25: 20 | C25: 11/05/2026 - 11/05/2026 | D25: 13070.5 | E25: 8570 | F25: =+E25+D25 -> 21640.5 | G25: =+G24+F25 -> 2286975.8 | H25: =((G25-I25)/I25)*100 -> -18.916151 | I25: =+I24+78327.02 -> 2820507.2
B26: 21 | C26: 18/05/2026 - 22/05/2026 | D26: 23914 | E26: 0 | F26: =+E26+D26 -> 23914 | G26: =+G25+F26 -> 2310889.8 | H26: =((G26-I26)/I26)*100 -> -18.430615 | I26: =+I25+12528.5 -> 2833035.7
B27: 22 | C27: 25/05/2026 - 29/05/2026 | D27: 95779.5 | E27: 0 | F27: =+E27+D27 -> 95779.5 | G27: =+G26+F27 -> 2406669.3 | H27: =((G27-I27)/I27)*100 -> -15.059041 | I27: =+I26+308 -> 2833343.7
B28: 23 | C28: 01/06/2026 - 05/06/2026 | D28: 121885 | E28: 0 | F28: =+E28+D28 -> 121885 | G28: =+G27+F28 -> 2528554.3 | H28: =((G28-I28)/I28)*100 -> -10.757234 | I28: =+I27+0 -> 2833343.7
B29: 24 | C29: 08/06/2026 - 12/06/2026 | D29: 7170 | E29: 0 | F29: =+E29+D29 -> 7170 | G29: =+G28+F29 -> 2535724.3 | H29: =((G29-I29)/I29)*100 -> -4.0222821 | I29: =+I28-191351 -> 2641992.7
B30: 25 | C30: 15/06/2026 - 19/06/2026 | D30: 26974.5 | E30: 0 | F30: =+E30+D30 -> 26974.5 | G30: =+G29+F30 -> 2562698.8 | H30: =((G30-I30)/I30)*100 -> -3.0012914 | I30: =+I29+0 -> 2641992.7
B31: 26 | C31: 22/06/2026 - 26/06/2026 | D31: 383.9 | E31: 0 | F31: =+E31+D31 -> 383.9 | G31: =+G30+F31 -> 2563082.7 | H31: =((G31-I31)/I31)*100 -> -2.9867607 | I31: =+I30+0 -> 2641992.7
B32: 27 | C32: 29/06/2026 - 03/07/2026 | D32: 34845 | E32: 0 | F32: =+E32+D32 -> 34845 | G32: =+G31+F32 -> 2597927.7 | H32: =((G32-I32)/I32)*100 -> -1.6678699 | I32: =+I31+0 -> 2641992.7
B33: 28 | C33: 06/07/2026 - 10/07/2026 | D33: 39783.5 | E33: 16549.5 | F33: =+E33+D33 -> 56333 | G33: =+G32+F33 -> 2654260.7 | H33: =((G33-I33)/I33)*100 -> 0.46434648 | I33: =+I32+0 -> 2641992.7
B34: 29 | C34: 13/07/2026 - 17/07/2026 | D34: 0 | E34: 0 | F34: =+E34+D34 -> 0 | G34: =+G33+F34 -> 2654260.7 | H34: =((G34-I34)/I34)*100 -> 0.46434648 | I34: =+I33+0 -> 2641992.7
B35: 30 | C35: 20/07/2026 - 24/07/2026 | D35: 14185 | E35: 0 | F35: =+E35+D35 -> 14185 | G35: =+G34+F35 -> 2668445.7 | H35: =((G35-I35)/I35)*100 -> 1.0012518 | I35: =+I34+0 -> 2641992.7
B36: 31 | C36: 27/07/2026 - 31/07/2026 | D36: 1184 | E36: 0 | F36: =+E36+D36 -> 1184 | G36: =+G35+F36 -> 2669629.7 | H36: =((G36-I36)/I36)*100 -> 1.0460665 | I36: =+I35+0 -> 2641992.7
B37: 32 | C37: 03/08/2026 - 07/08/2026 | D37: 0 | E37: 0 | F37: =+E37+D37 -> 0 | G37: =+G36+F37 -> 2669629.7 | H37: =((G37-I37)/I37)*100 -> 1.0460665 | I37: =+I36+0 -> 2641992.7
B38: 33 | C38: 10/08/2026 - 14/08/2026 | D38: 0 | E38: -21110 | F38: =+E38+D38 -> -21110 | G38: =+G37+F38 -> 2648519.7 | H38: =((G38-I38)/I38)*100 -> 0.24704837 | I38: =+I37+0 -> 2641992.7
B39: 34 | C39: 17/08/2026 - 21/08/2026 | D39: 0 | E39: 0 | F39: 0 | G39: =+G38+F39 -> 2648519.7 | H39: =((G39-I39)/I39)*100 -> 0.24704837 | I39: =+I38+0 -> 2641992.7
B40: 35 | C40: 24/08/2026 - 28/08/2026 | D40: 0 | E40: -41 | F40: =+E40+D40 -> -41 | G40: =+G39+F40 -> 2648478.7 | H40: =((G40-I40)/I40)*100 -> 0.24549652 | I40: =+I39+0 -> 2641992.7
B41: 36
B42: 37
...

Sheet  Specific add product detail
B1: TAKE NOTE: THOMPSON SELMA PETE SUGRA 39 IS PART OF THE THOMPSONS INTAKE PER TOTAL AND AREA
B2: THIS DATA IS JUST FOR ACKNOWLEGMENT
D6: TOTAL THOMPSON SELMA PETE SUGRA39: WEEKLY PRODUCER DELIVERIES | I6: PLEASE NOTE:
B7: Publication Date: 2026/08/31 | I7: The comparisons made with previous years are only indicative.
D8: 2026 Marketing Year | I8: It is only an indication of how the crop is delivered at commercial premises between years.
D9: 1 January 2026 - 31 December 2026 | I9: The comparison is based on the WEEK NUMBER and not actual dates.
B10: Week | C10: Week Ending | D10: Reported Deliveries | E10: Adjustments | F10: Week Total | G10: Cum. Total | I10: The beginning and end dates of a week are therefore not the same for each year.
D11: KG
B12: 4 | C12: 19/01/2026 - 23/01/2026 | D12: 238649.5 | E12: 0 | F12: 238649.5 | G12: 238649.5
B13: 5 | C13: 26/01/2026 - 30/01/2026 | D13: 1725098.5 | E13: 0 | F13: 1725098.5 | G13: 1963748
B14: 6 | C14: 02/02/2026 - 06/02/2026 | D14: 2950114.8 | E14: 0 | F14: 2950114.8 | G14: 4913862.8
B15: 7 | C15: 09/02/2026 - 13/02/2026 | D15: 1497270.2 | E15: 831062.5 | F15: =1497270.22+831062.5 -> 2328332.7 | G15: =4913862.79+2328332.72 -> 7242195.5
B16: 8 | C16: 16/02/2026 - 20/02/2026 | D16: 1809356 | E16: 0 | F16: =+E16+D16 -> 1809356 | G16: =+G15+F16 -> 9051551.5
B17: 9 | C17: 23/02/2026 - 27/02/2026 | D17: 1401684.5 | E17: 0 | F17: =+E17+D17 -> 1401684.5 | G17: =+G16+F17 -> 10453236
B18: 10 | C18: 02/03/2026 - 06/03/2026 | D18: 1938633.5 | E18: 0 | F18: =+E18+D18 -> 1938633.5 | G18: =+G17+F18 -> 12391870
B19: 11 | C19: 09/03/2026 - 13/03/2026 | D19: 924184.5 | E19: 0 | F19: =+E19+D19 -> 924184.5 | G19: =+G18+F19 -> 13316054
B20: 12 | C20: 16/03/2026 - 20/03/2026 | D20: 981003.01 | E20: 0 | F20: =+E20+D20 -> 981003.01 | G20: =+G19+F20 -> 14297057
B21: 13 | C21: 23/03/2026 - 27/03/2026 | D21: 757691.52 | E21: 0 | F21: =+E21+D21 -> 757691.52 | G21: =+G20+F21 -> 15054749
B22: 14 | C22: 30/03/2026 - 03/04/2026 | D22: 158016 | E22: 0 | F22: =+E22+D22 -> 158016 | G22: =+G21+F22 -> 15212765
B23: 15 | C23: 06/04/2026 - 10/04/2026 | D23: 192045.5 | E23: 0 | F23: =+E23+D23 -> 192045.5 | G23: =+G22+F23 -> 15404810
B24: 16 | C24: 13/04/2026 - 17/04/2026 | D24: 170134.5 | E24: 0 | F24: =+E24+D24 -> 170134.5 | G24: =+G23+F24 -> 15574945
B25: 17 | C25: 20/04/2026 - 24/04/2026 | D25: 101675 | E25: 0 | F25: =+E25+D25 -> 101675 | G25: =+G24+F25 -> 15676620
B26: 18 | C26: 27/04/2026 - 01/05/2026 | D26: 82061 | E26: 0 | F26: =+E26+D26 -> 82061 | G26: =+G25+F26 -> 15758681
B27: 19 | C27: 04/05/2026 - 08/05/2026 | D27: 15508 | E27: 0 | F27: =+E27+D27 -> 15508 | G27: =+G26+F27 -> 15774189
... B40: 32 | C40: 03/08/2026 - 07/08/2026 | D40: 0 | E40: 0 | F40: =+E40+D40 -> 0 | G40: =+G39+F40 -> 16794979
B41: 33 | C41: 10/08/2026 - 14/08/2026 | D41: 0 | E41: =32871+2414 -> 35285 | F41: =+E41+D41 -> 35285 | G41: =+G40+F41 -> 16830264
B42: 34 | C42: 17/08/2026 - 21/08/2026 | D42: 0 | E42: 0 | F42: 0 | G42: =+G41+F42 -> 16830264
B43: 35 | C43: 24/08/2026 - 28/08/2026 | D43: 0 | E43: 0 | F43: =+E43+D43 -> 0 | G43: =+G42+F43 -> 16830264
B45: Footnotes:
B46: This information is reported by Raisins SA NPC as submitted by collaborators.
B47: Weekly producer deliveries were verified by means of the WEEKLY returns.
B48: Adjustments are made because of amendments and/or late returns.
D51: ORANGE RIVER
D52: TOTAL THOMPSON SELMA PETE SUGRA39: WEEKLY PRODUCER DELIVERIES
B53: Publication Date: 2026/08/31
D54: 2026 Marketing Year
D55: 1 January 2026 - 31 December 2026
B56: Week | C56: Week Ending | D56: Reported Deliveries | E56: Adjustments | F56: Week Total | G56: Cum. Total
D57: KG
B58: 4 | C58: 19/01/2026 - 23/01/2026 | D58: 187898.5 | E58: 0 | F58: 187898.5 | G58: =+F58 -> 187898.5
...
